BEGIN:VCALENDAR
VERSION:2.0
PRODID:-//ChamberMaster//Event Calendar 2.0//EN
METHOD:PUBLISH
X-PUBLISHED-TTL:P3D
REFRESH-INTERVAL:P3D
CALSCALE:GREGORIAN
BEGIN:VEVENT
DTSTART:20191019T140000Z
DTEND:20191019T150000Z
X-MICROSOFT-CDO-ALLDAYEVENT:FALSE
SUMMARY:Spooktacular Art
DESCRIPTION:Splat\, squish\, and squeeze paint while creating spooky art. Dress for a mess. All ages welcome!
X-ALT-DESC;FMTTYPE=text/html:Splat\, squish\, and squeeze paint while creating spooky art. Dress for a mess. All ages welcome!
LOCATION:Granville Public Library
UID:e.180.12856
SEQUENCE:3
DTSTAMP:20260422T144053Z
URL:http://business.granvilleoh.com/events/details/spooktacular-art-12856
END:VEVENT

END:VCALENDAR
