BEGIN:VCALENDAR
VERSION:2.0
PRODID:-//ChamberMaster//Event Calendar 2.0//EN
METHOD:PUBLISH
X-PUBLISHED-TTL:P3D
REFRESH-INTERVAL:P3D
CALSCALE:GREGORIAN
BEGIN:VEVENT
DTSTART;VALUE=DATE:20190429
DTEND;VALUE=DATE:20190505
TRANSP:TRANSPARENT
X-MICROSOFT-CDO-ALLDAYEVENT:TRUE
SUMMARY:Spy Week at the Library
DESCRIPTION:Visit the library each day this week for a different spy activity. For grades K-6.
X-ALT-DESC;FMTTYPE=text/html:Visit the library each day this week for a different spy activity. For grades K-6.
LOCATION:Granville Public LIbrary
UID:e.180.12568
SEQUENCE:3
DTSTAMP:20260420T050615Z
URL:http://business.granvilleoh.com/events/details/spy-week-at-the-library-12568
END:VEVENT

END:VCALENDAR
