BEGIN:VCALENDAR
VERSION:2.0
PRODID:-//ChamberMaster//Event Calendar 2.0//EN
METHOD:PUBLISH
X-PUBLISHED-TTL:P3D
REFRESH-INTERVAL:P3D
CALSCALE:GREGORIAN
BEGIN:VEVENT
DTSTART:20180612T130000Z
DTEND:20180808T230000Z
X-MICROSOFT-CDO-ALLDAYEVENT:FALSE
SUMMARY:STEAM Camps at Granville Christian
DESCRIPTION:A new summer program at Granville Christian Academy featuring Science\, Technology\, Engineering\, Arts\, and Math (STEAM) activities opens on June 12. Camps are kids in 5th grade thru high school. This is a membership based program\, featuring access three days a week for eight weeks\, to a wide variety of program resources and opportunities. In the unique open-lab environment participants will explore 3D printing\, robots\, screen printing\, Kiwi Tinker Crates\, video editing\, and much more. There will also be organized sessions and challenges fostering creativity\, learning\, and innovation. Membership fees vary\, and are available for Individual students (5th grade through high school) and an entire family. Visit website for details.
X-ALT-DESC;FMTTYPE=text/html:A new summer program at Granville Christian Academy featuring Science\, Technology\, Engineering\, Arts\, and Math (STEAM) activities opens on June 12. Camps are kids in 5th grade thru high school. This is a membership based program\, featuring access three days a week for eight weeks\, to a wide variety of program resources and opportunities. In the unique open-lab environment participants will explore 3D printing\, robots\, screen printing\, Kiwi Tinker Crates\, video editing\, and much more. There will also be organized sessions and challenges fostering creativity\, learning\, and innovation. Membership fees vary\, and are available for Individual students (5th grade through high school) and an entire family. Visit website for details.
LOCATION:Granville Christian Academy 1820 Newark Granville Rd.\, Newark Oh 43023
UID:e.180.12016
SEQUENCE:3
DTSTAMP:20260419T153549Z
URL:http://business.granvilleoh.com/events/details/steam-camps-at-granville-christian-12016
END:VEVENT

END:VCALENDAR
