BEGIN:VCALENDAR
VERSION:2.0
PRODID:-//ChamberMaster//Event Calendar 2.0//EN
METHOD:PUBLISH
X-PUBLISHED-TTL:P3D
REFRESH-INTERVAL:P3D
CALSCALE:GREGORIAN
BEGIN:VEVENT
DTSTART:20180626T160000Z
DTEND:20180627T200000Z
X-MICROSOFT-CDO-ALLDAYEVENT:FALSE
SUMMARY:STEAM Mini-Camps for ES kids
DESCRIPTION:Granville Christian Academy science teacher Brian Hassel is leading the Pride Lab Program Mini-Camps for kids in first through fourth grade\, which are jam packed with Science\, Technology\, Engineering\, Arts\, and Math (STEAM) opportunities. Participants will explore 3D printing\, robots\, screen printing\, Kiwi Tinker Crates\, video editing\, and much more. There will also be organized sessions and challenges fostering creativity\, learning\, and innovation.
X-ALT-DESC;FMTTYPE=text/html:Granville Christian Academy science teacher Brian Hassel is leading the Pride Lab Program Mini-Camps for kids in first through fourth grade\, which are jam packed with Science\, Technology\, Engineering\, Arts\, and Math (STEAM) opportunities. Participants will explore 3D printing\, robots\, screen printing\, Kiwi Tinker Crates\, video editing\, and much more. There will also be organized sessions and challenges fostering creativity\, learning\, and innovation.
LOCATION:Granville Christian Academy\, 1820 Newark Granville Rd.\, Granville
UID:e.180.12017
SEQUENCE:3
DTSTAMP:20260419T153343Z
URL:http://business.granvilleoh.com/events/details/steam-mini-camps-for-es-kids-12017
END:VEVENT

END:VCALENDAR
