BEGIN:VCALENDAR
VERSION:2.0
PRODID:-//ChamberMaster//Event Calendar 2.0//EN
METHOD:PUBLISH
X-PUBLISHED-TTL:P3D
REFRESH-INTERVAL:P3D
CALSCALE:GREGORIAN
BEGIN:VEVENT
DTSTART:20190327T213000Z
DTEND:20190327T223000Z
X-MICROSOFT-CDO-ALLDAYEVENT:FALSE
SUMMARY:Studio Art Senior Exhibitions: Armando Roman
DESCRIPTION:Denison University presents Studio Art Senior Bachelor of Fine Arts Solo Exhibition with Armando Roman.
X-ALT-DESC;FMTTYPE=text/html:<div><span style="background-color:transparent\; color:rgb(0\, 0\, 0)\; font-family:arial\; font-size:11pt">Denison University presents </span><span style="color:rgb(80\, 0\, 80)\; font-family:arial\; font-size:11pt">Studio Art Senior Bachelor of Fine Arts Solo Exhibition with Armando Roman.</span></div>\n
LOCATION:Gallery 403 of the Bryant Arts Center 210 West College Street
UID:e.180.12516
SEQUENCE:3
DTSTAMP:20260420T034828Z
URL:http://business.granvilleoh.com/events/details/studio-art-senior-exhibitions-12516
END:VEVENT

END:VCALENDAR
