BEGIN:VCALENDAR
VERSION:2.0
PRODID:-//ChamberMaster//Event Calendar 2.0//EN
METHOD:PUBLISH
X-PUBLISHED-TTL:P3D
REFRESH-INTERVAL:P3D
CALSCALE:GREGORIAN
BEGIN:VEVENT
DTSTART:20190327T213000Z
DTEND:20190327T223000Z
X-MICROSOFT-CDO-ALLDAYEVENT:FALSE
SUMMARY:Studio Art Senior Exhibitions with Ali Haag
DESCRIPTION:Denison University presents Studio Art Senior Bachelor of Fine Arts Solo Exhibition with Ali Haag.
X-ALT-DESC;FMTTYPE=text/html:<div><span style="background-color:transparent\; color:rgb(0\, 0\, 0)\; font-family:arial\; font-size:11pt">Denison University presents </span><span style="color:rgb(80\, 0\, 80)\; font-family:arial\; font-size:11pt">Studio Art Senior Bachelor of Fine Arts Solo Exhibition with </span><span style="color:rgb(0\, 0\, 0)\; font-family:arial\; font-size:11pt">Ali Haag.</span></div>\n
LOCATION:Mulberry House 202 North Mulberry Street
UID:e.180.12517
SEQUENCE:3
DTSTAMP:20260420T035008Z
URL:http://business.granvilleoh.com/events/details/studio-art-senior-exhibitions-with-ali-haag-12517
END:VEVENT

END:VCALENDAR
