BEGIN:VCALENDAR
VERSION:2.0
PRODID:-//ChamberMaster//Event Calendar 2.0//EN
METHOD:PUBLISH
X-PUBLISHED-TTL:P3D
REFRESH-INTERVAL:P3D
CALSCALE:GREGORIAN
BEGIN:VEVENT
DTSTART:20190720T140000Z
DTEND:20190720T150000Z
X-MICROSOFT-CDO-ALLDAYEVENT:FALSE
SUMMARY:Stuffed Animal Moon Mission
DESCRIPTION:Bring a stuffed animal to this pretend and play program. Land him on the Moon and return him safely to Earth.
X-ALT-DESC;FMTTYPE=text/html:Bring a stuffed animal to this pretend and play program. Land him on the Moon and return him safely to Earth.
LOCATION:Granville Public Library
UID:e.180.12730
SEQUENCE:3
DTSTAMP:20260422T085200Z
URL:http://business.granvilleoh.com/events/details/stuffed-animal-moon-mission-12730
END:VEVENT

END:VCALENDAR
