BEGIN:VCALENDAR
VERSION:2.0
PRODID:-//ChamberMaster//Event Calendar 2.0//EN
METHOD:PUBLISH
X-PUBLISHED-TTL:P3D
REFRESH-INTERVAL:P3D
CALSCALE:GREGORIAN
BEGIN:VEVENT
DTSTART:20190914T140000Z
DTEND:20190914T143000Z
X-MICROSOFT-CDO-ALLDAYEVENT:FALSE
SUMMARY:Stuffed Animal Sleepover
DESCRIPTION:Drop off your stuffed animal to spend the night at the library anytime on Friday\, Sept. 13th. Reunite Saturday morning for a storytime featuring a slideshow of the stuffed animals' overnight activities. Ages preschool and up.
X-ALT-DESC;FMTTYPE=text/html:Drop off your stuffed animal to spend the night at the library anytime on Friday\, Sept. 13th. Reunite Saturday morning for a storytime featuring a slideshow of the stuffed animals&#39\; overnight activities. Ages preschool and up.
LOCATION:Granville Public Library
UID:e.180.12816
SEQUENCE:3
DTSTAMP:20260422T115432Z
URL:http://business.granvilleoh.com/events/details/stuffed-animal-sleepover-12816
END:VEVENT

END:VCALENDAR
