BEGIN:VCALENDAR
VERSION:2.0
PRODID:-//ChamberMaster//Event Calendar 2.0//EN
METHOD:PUBLISH
X-PUBLISHED-TTL:P3D
REFRESH-INTERVAL:P3D
CALSCALE:GREGORIAN
BEGIN:VEVENT
DTSTART:20180914T130000Z
DTEND:20180914T220000Z
X-MICROSOFT-CDO-ALLDAYEVENT:FALSE
SUMMARY:Stuffed Animal Sleepover Drop-Off
DESCRIPTION:Drop off your stuffed animal to spend the night in the library anytime on Friday\, September 14. Reunite Saturday morning\, September 15th at 10AM for a storytime featuring a slide show of the stuffed animals' overnight adventures.
X-ALT-DESC;FMTTYPE=text/html:Drop off your stuffed animal to spend the night in the library anytime on Friday\, September 14. Reunite Saturday morning\, September 15th at 10AM for a storytime featuring a slide show of the stuffed animals&#39\; overnight adventures.
LOCATION:Granville Public Library
UID:e.180.12109
SEQUENCE:3
DTSTAMP:20260419T193350Z
URL:http://business.granvilleoh.com/events/details/stuffed-animal-sleepover-drop-off-12109
END:VEVENT

END:VCALENDAR
