BEGIN:VCALENDAR
VERSION:2.0
PRODID:-//ChamberMaster//Event Calendar 2.0//EN
METHOD:PUBLISH
X-PUBLISHED-TTL:P3D
REFRESH-INTERVAL:P3D
CALSCALE:GREGORIAN
BEGIN:VEVENT
DTSTART:20180915T140000Z
DTEND:20180915T150000Z
X-MICROSOFT-CDO-ALLDAYEVENT:FALSE
SUMMARY:Stuffed Animal Sleepover Storytime
DESCRIPTION:Drop off your stuffed animal to spend the night in the library anytime on Friday\, September 14. Reunite Saturday morning\, September 15th at 10AM for a storytime featuring a slide show of the stuffed animals' overnight adventures. Ages preschool and up.
X-ALT-DESC;FMTTYPE=text/html:Drop off your stuffed animal to spend the night in the library anytime on Friday\, September 14. Reunite Saturday morning\, September 15th at 10AM for a storytime featuring a slide show of the stuffed animals&#39\; overnight adventures. Ages preschool and up.
LOCATION:Granville Public Library
UID:e.180.12110
SEQUENCE:3
DTSTAMP:20260419T193554Z
URL:http://business.granvilleoh.com/events/details/stuffed-animal-sleepover-storytime-12110
END:VEVENT

END:VCALENDAR
