BEGIN:VCALENDAR
VERSION:2.0
PRODID:-//ChamberMaster//Event Calendar 2.0//EN
METHOD:PUBLISH
X-PUBLISHED-TTL:P3D
REFRESH-INTERVAL:P3D
CALSCALE:GREGORIAN
BEGIN:VEVENT
DTSTART:20190905T154500Z
DTEND:20190905T171500Z
X-MICROSOFT-CDO-ALLDAYEVENT:FALSE
SUMMARY:Summer Scholar Fine Arts presentation
DESCRIPTION:The Lisska Center for Scholarly Engagement holds a Summer Scholars research symposium featuring students' poster presentations and a light lunch. All are welcome to view the work of our fine arts and creative writing summer scholars and visit with the students as they describe their research.
X-ALT-DESC;FMTTYPE=text/html:<p>The Lisska Center for Scholarly Engagement holds a Summer Scholars research symposium featuring students&rsquo\; poster presentations and a light lunch. All are welcome to view the work of our fine arts and creative writing summer scholars and visit with the students as they describe their research.</p>\n
LOCATION:Denison University Bryant Arts Center 210 West College Street
UID:e.180.12712
SEQUENCE:3
DTSTAMP:20260422T115319Z
URL:http://business.granvilleoh.com/events/details/summer-scholar-fine-arts-presentation-12712
END:VEVENT

END:VCALENDAR
