BEGIN:VCALENDAR
VERSION:2.0
PRODID:-//ChamberMaster//Event Calendar 2.0//EN
METHOD:PUBLISH
X-PUBLISHED-TTL:P3D
REFRESH-INTERVAL:P3D
CALSCALE:GREGORIAN
BEGIN:VEVENT
DTSTART:20190711T210000Z
DTEND:20190712T010000Z
X-MICROSOFT-CDO-ALLDAYEVENT:FALSE
SUMMARY:Super Smash Bros. Middle and High School Tournament
DESCRIPTION:It's a Nintendo Switch Super Smash Bros. tournament for rising 7-12th graders! The top two will be invited to play in the high school tournament immediately following. Advanced registration is required. Register at www.granvillelibrary.org/calendar. In hosting this tournament. we're trying something new and we need your help! If you have Nintendo Switch controllers and/or a compatible monitor\, please consider bringing those to share during the tournament. It will allow more kids to play at the same time. Please plan to arrive at least a half hour early to be sure your equipment is ready to go.
X-ALT-DESC;FMTTYPE=text/html:It&#39\;s a Nintendo Switch Super Smash Bros. tournament for rising 7-12th graders! The top two will be invited to play in the high school tournament immediately following. Advanced registration is required. Register at www.granvillelibrary.org/calendar. In hosting this tournament. we&#39\;re trying something new and we need your help! If you have Nintendo Switch controllers and/or a compatible monitor\, please consider bringing those to share during the tournament. It will allow more kids to play at the same time. Please plan to arrive at least a half hour early to be sure your equipment is ready to go.
LOCATION:Granville Public Library
UID:e.180.12717
SEQUENCE:3
DTSTAMP:20260422T085325Z
URL:http://business.granvilleoh.com/events/details/super-smash-bros-middle-and-high-school-tournament-12717
END:VEVENT

END:VCALENDAR
