BEGIN:VCALENDAR
VERSION:2.0
PRODID:-//ChamberMaster//Event Calendar 2.0//EN
METHOD:PUBLISH
X-PUBLISHED-TTL:P3D
REFRESH-INTERVAL:P3D
CALSCALE:GREGORIAN
BEGIN:VEVENT
DTSTART:20190414T190000Z
DTEND:20190414T200000Z
X-MICROSOFT-CDO-ALLDAYEVENT:FALSE
SUMMARY:Suzuki recital at Denison
DESCRIPTION:Denison University's Department of Music presents a Suzuki recital.
X-ALT-DESC;FMTTYPE=text/html:<span style="color:rgb(0\, 0\, 0)\; font-family:verdana\,geneva\,sans-serif\; font-size:12px"><span style="font-family:arial\; font-size:11pt">Denison University&#39\;s </span></span><span style="color:rgb(0\, 0\, 0)\; font-family:arial\; font-size:11pt">Department of Music presents a Suzuki recital.</span>
LOCATION:Denison University Burke Hall of Music and Arts\, Recital Hall 240 West Broadway
UID:e.180.12529
SEQUENCE:3
DTSTAMP:20260420T050703Z
URL:http://business.granvilleoh.com/events/details/suzuki-recital-at-denison-12529
END:VEVENT

END:VCALENDAR
