BEGIN:VCALENDAR
VERSION:2.0
PRODID:-//ChamberMaster//Event Calendar 2.0//EN
METHOD:PUBLISH
X-PUBLISHED-TTL:P3D
REFRESH-INTERVAL:P3D
CALSCALE:GREGORIAN
BEGIN:VEVENT
DTSTART:20190613T170000Z
DTEND:20190613T190000Z
X-MICROSOFT-CDO-ALLDAYEVENT:FALSE
SUMMARY:Teen Crafternoon
DESCRIPTION:Teens\, create your own chia hedgehog planter! We'll supply everything you need to watch it grow at home. Rising 7-12th grade
X-ALT-DESC;FMTTYPE=text/html:Teens\, create your own chia hedgehog planter! We&#39\;ll supply everything you need to watch it grow at home. Rising 7-12th grade
LOCATION:Granville Public Library
UID:e.180.12665
SEQUENCE:3
DTSTAMP:20260420T083739Z
URL:http://business.granvilleoh.com/events/details/teen-crafternoon-06-13-2019-12665
END:VEVENT

END:VCALENDAR
