BEGIN:VCALENDAR
VERSION:2.0
PRODID:-//ChamberMaster//Event Calendar 2.0//EN
METHOD:PUBLISH
X-PUBLISHED-TTL:P3D
REFRESH-INTERVAL:P3D
CALSCALE:GREGORIAN
BEGIN:VEVENT
DTSTART:20180719T180000Z
DTEND:20180719T193000Z
X-MICROSOFT-CDO-ALLDAYEVENT:FALSE
SUMMARY:Teen Crafternoon
DESCRIPTION:We've got a playlist of crafts for you to try! Stop by and give them a spin! Rising 7th through 12th graders welcome!
X-ALT-DESC;FMTTYPE=text/html:We&#39\;ve got a playlist of crafts for you to try! Stop by and give them a spin! Rising 7th through 12th graders welcome!
LOCATION:Granville Public Library
UID:e.180.12061
SEQUENCE:3
DTSTAMP:20260419T171225Z
URL:http://business.granvilleoh.com/events/details/teen-crafternoon-12061
END:VEVENT

END:VCALENDAR
