BEGIN:VCALENDAR
VERSION:2.0
PRODID:-//ChamberMaster//Event Calendar 2.0//EN
METHOD:PUBLISH
X-PUBLISHED-TTL:P3D
REFRESH-INTERVAL:P3D
CALSCALE:GREGORIAN
BEGIN:VEVENT
DTSTART:20190718T160000Z
DTEND:20190718T170000Z
X-MICROSOFT-CDO-ALLDAYEVENT:FALSE
SUMMARY:Teen Summer Book Club
DESCRIPTION:Teens\, join Mrs. Bice\, Mrs. Tallentire\, and Emily Shellhouse to discuss Leah on the Offbeat by Becky Albertalli and enjoy pizza. Copies will be available at the Reference Desk in the teen department beginning June 20. Rising 7th-12th graders welcome!
X-ALT-DESC;FMTTYPE=text/html:Teens\, join Mrs. Bice\, Mrs. Tallentire\, and Emily Shellhouse to discuss Leah on the Offbeat by Becky Albertalli and enjoy pizza. Copies will be available at the Reference Desk in the teen department beginning June 20. Rising 7th-12th graders welcome!
LOCATION:Granville Public Library
UID:e.180.12726
SEQUENCE:3
DTSTAMP:20260422T102917Z
URL:http://business.granvilleoh.com/events/details/teen-summer-book-club-07-18-2019-12726
END:VEVENT

END:VCALENDAR
