BEGIN:VCALENDAR
VERSION:2.0
PRODID:-//ChamberMaster//Event Calendar 2.0//EN
METHOD:PUBLISH
X-PUBLISHED-TTL:P3D
REFRESH-INTERVAL:P3D
CALSCALE:GREGORIAN
BEGIN:VEVENT
DTSTART:20190620T160000Z
DTEND:20190620T170000Z
X-MICROSOFT-CDO-ALLDAYEVENT:FALSE
SUMMARY:Teen Summer Book Club
DESCRIPTION:Teens\, join Mrs. Bice\, Mrs. Tallentire\, and Emily Shellhouse to discuss The Poet X by Elizabeth Acevedo and enjoy pizza.. Copies will be available at the Reference Desk in the Teen Department beginning May 30. Rising 7-12th graders welcome!
X-ALT-DESC;FMTTYPE=text/html:Teens\, join Mrs. Bice\, Mrs. Tallentire\, and Emily Shellhouse to discuss The Poet X by Elizabeth Acevedo and enjoy pizza.. Copies will be available at the Reference Desk in the Teen Department beginning May 30. Rising 7-12th graders welcome!
LOCATION:Granville Public Library
UID:e.180.12679
SEQUENCE:3
DTSTAMP:20260420T083718Z
URL:http://business.granvilleoh.com/events/details/teen-summer-book-club-12679
END:VEVENT

END:VCALENDAR
