BEGIN:VCALENDAR
VERSION:2.0
PRODID:-//ChamberMaster//Event Calendar 2.0//EN
METHOD:PUBLISH
X-PUBLISHED-TTL:P3D
REFRESH-INTERVAL:P3D
CALSCALE:GREGORIAN
BEGIN:VEVENT
DTSTART:20190718T190000Z
DTEND:20190718T210000Z
X-MICROSOFT-CDO-ALLDAYEVENT:FALSE
SUMMARY:Teens\, Tinkercad\, and D&D
DESCRIPTION:Teens\, learn to use Tinkercad to create a 3D printed Dungeons and Dragons minifigure holder. Registration required. Rising 7-12 grade. Register at https://www.granvillelibrary.org/content/teens-tinkercad-and-dd-1
X-ALT-DESC;FMTTYPE=text/html:Teens\, learn to use Tinkercad to create a 3D printed Dungeons and Dragons minifigure holder. Registration required. Rising 7-12 grade. Register at https://www.granvillelibrary.org/content/teens-tinkercad-and-dd-1
LOCATION:Granville Public Library
UID:e.180.12727
SEQUENCE:3
DTSTAMP:20260422T085112Z
URL:http://business.granvilleoh.com/events/details/teens-tinkercad-and-d-d-07-18-2019-12727
END:VEVENT

END:VCALENDAR
