BEGIN:VCALENDAR
VERSION:2.0
PRODID:-//ChamberMaster//Event Calendar 2.0//EN
METHOD:PUBLISH
X-PUBLISHED-TTL:P3D
REFRESH-INTERVAL:P3D
CALSCALE:GREGORIAN
BEGIN:VEVENT
DTSTART:20190725T170000Z
DTEND:20190725T190000Z
X-MICROSOFT-CDO-ALLDAYEVENT:FALSE
SUMMARY:Teens\, Tinkercad\, and D&D
DESCRIPTION:Teens\, learn to use Tinkercad to create a 3D printed Dungeons and Dragons minifigure holder. Registration required at www.granvillelibrary.com/calendar. Rising 7-12 grade.
X-ALT-DESC;FMTTYPE=text/html:Teens\, learn to use Tinkercad to create a 3D printed Dungeons and Dragons minifigure holder. Registration required at www.granvillelibrary.com/calendar. Rising 7-12 grade.
LOCATION:Granville Public Library
UID:e.180.12742
SEQUENCE:3
DTSTAMP:20260422T102559Z
URL:http://business.granvilleoh.com/events/details/teens-tinkercad-and-d-d-07-25-2019-12742
END:VEVENT

END:VCALENDAR
