BEGIN:VCALENDAR
VERSION:2.0
PRODID:-//ChamberMaster//Event Calendar 2.0//EN
METHOD:PUBLISH
X-PUBLISHED-TTL:P3D
REFRESH-INTERVAL:P3D
CALSCALE:GREGORIAN
BEGIN:VEVENT
DTSTART:20190613T190000Z
DTEND:20190613T210000Z
X-MICROSOFT-CDO-ALLDAYEVENT:FALSE
SUMMARY:Teens\, Tinkercad and D&D
DESCRIPTION:Teens\, learn to use Tinkercad to create a 3D printed Dungeons and Dragons minifigure. Registration required at granvillelibrary.org/calendar. Rising 7-12 grade.
X-ALT-DESC;FMTTYPE=text/html:Teens\, learn to use Tinkercad to create a 3D printed Dungeons and Dragons minifigure. Registration required at granvillelibrary.org/calendar. Rising 7-12 grade.
LOCATION:Granville Public Library
UID:e.180.12666
SEQUENCE:3
DTSTAMP:20260420T081509Z
URL:http://business.granvilleoh.com/events/details/teens-tinkercad-and-d-d-12666
END:VEVENT

END:VCALENDAR
