BEGIN:VCALENDAR
VERSION:2.0
PRODID:-//ChamberMaster//Event Calendar 2.0//EN
METHOD:PUBLISH
X-PUBLISHED-TTL:P3D
REFRESH-INTERVAL:P3D
CALSCALE:GREGORIAN
BEGIN:VEVENT
DTSTART:20191005T140000Z
DTEND:20191005T160000Z
X-MICROSOFT-CDO-ALLDAYEVENT:FALSE
SUMMARY:'Tell Better Stories: Writing Memoir: Interviewing for Memoir'
DESCRIPTION:The Narrative Journalism Program at Denison presents a 4-part series of "Tell Better Stories: Writing Memoir" workshops led by Heather Shaw\, a freelance writer from Newark\, Ohio and winner of the Award of Excellence from the Columbus Arts Festival.\nPart 3: "Interviewing for Memoir": Interviewing is one of the best ways to learn about people\, places\, and events for which we have a limited perspective. We will explore the interview process: how to set people at ease\, how to get information you need (and the information you didn't know you needed)\, and how to incorporate interviews into your memoir.
X-ALT-DESC;FMTTYPE=text/html:<span style="color:rgb(0\, 0\, 0)\; font-family:arial\; font-size:11pt">The Narrative Journalism Program at Denison</span><span style="background-color:transparent\; color:rgb(0\, 0\, 0)\; font-family:arial\; font-size:11pt"> presents a 4-part series of &ldquo\;Tell Better Stories: Writing Memoir&rdquo\; workshops led by Heather Shaw\, a freelance writer from Newark\, Ohio and winner of the Award of Excellence from the Columbus Arts Festival.</span>\n<p><span style="background-color:transparent\; font-size:11pt">Part 3: &quot\;Interviewing for Memoir&quot\;: Interviewing is one of the best ways to learn about people\, places\, and events for which we have a limited perspective. We will explore the interview process: how to set people at ease\, how to get information you need (and the information you didn&#39\;t know you needed)\, and how to incorporate interviews into your memoir.</span></p>\n\n<div>&nbsp\;</div>\n
LOCATION:NEWORK Space 14 N. Park Place Newark\, OH 43055
UID:e.180.12866
SEQUENCE:3
DTSTAMP:20260422T131528Z
URL:http://business.granvilleoh.com/events/details/tell-better-stories-writing-memoir-interviewing-for-memoir-12866
END:VEVENT

END:VCALENDAR
