BEGIN:VCALENDAR
VERSION:2.0
PRODID:-//ChamberMaster//Event Calendar 2.0//EN
METHOD:PUBLISH
X-PUBLISHED-TTL:P3D
REFRESH-INTERVAL:P3D
CALSCALE:GREGORIAN
BEGIN:VEVENT
DTSTART:20190921T140000Z
DTEND:20190921T160000Z
X-MICROSOFT-CDO-ALLDAYEVENT:FALSE
SUMMARY:'Tell Better Stories: Writing Memoir: Introduction to Memoir'
DESCRIPTION:The Narrative Journalism Program at Denison presents a 4-part series of "Tell Better Stories: Writing Memoir" workshops led by Heather Shaw\, a freelance writer from Newark\, Ohio and winner of the Award of Excellence from the Columbus Arts Festival.\nPart 1: "Introduction to Memoir": Everyone has a story to tell. In this session\, we will explore getting started: choosing a topic\, facing the blank page\, writing about yourself for a wider audience\, and the pros/cons of writing from memory.
X-ALT-DESC;FMTTYPE=text/html:<span style="color:rgb(0\, 0\, 0)\; font-family:arial\; font-size:11pt">The Narrative Journalism Program at Denison</span><span style="background-color:transparent\; color:rgb(0\, 0\, 0)\; font-family:arial\; font-size:11pt"> presents a 4-part series of &ldquo\;Tell Better Stories: Writing Memoir&rdquo\; workshops led by Heather Shaw\, a freelance writer from Newark\, Ohio and winner of the Award of Excellence from the Columbus Arts Festival.</span>\n<p><span style="background-color:transparent\; font-size:11pt">Part 1: &quot\;Introduction to Memoir&quot\;: Everyone has a story to tell. In this session\, we will explore getting started: choosing a topic\, facing the blank page\, writing about yourself for a wider audience\, and the pros/cons of writing from memory.</span></p>\n\n<div>&nbsp\;</div>\n
LOCATION:NEWORK Space 14 N. Park Place Newark\, OH 43055
UID:e.180.12864
SEQUENCE:3
DTSTAMP:20260422T115738Z
URL:http://business.granvilleoh.com/events/details/tell-better-stories-writing-memoir-introduction-to-memoir-12864
END:VEVENT

END:VCALENDAR
