BEGIN:VCALENDAR
VERSION:2.0
PRODID:-//ChamberMaster//Event Calendar 2.0//EN
METHOD:PUBLISH
X-PUBLISHED-TTL:P3D
REFRESH-INTERVAL:P3D
CALSCALE:GREGORIAN
BEGIN:VEVENT
DTSTART:20190928T140000Z
DTEND:20190928T160000Z
X-MICROSOFT-CDO-ALLDAYEVENT:FALSE
SUMMARY:'Tell Better Stories: Writing Memoir: Researching Your Memoir'
DESCRIPTION:The Narrative Journalism Program at Denison presents a 4-part series of "Tell Better Stories: Writing Memoir" workshops led by Heather Shaw\, a freelance writer from Newark\, Ohio and winner of the Award of Excellence from the Columbus Arts Festival.\nPart 2: "Researching Your Memoir": You'd be amazed by how much you don't know about your own life. This session explores research: getting the facts straight\, using sensory details to tell a story\, and placing your memoir in a broader context.
X-ALT-DESC;FMTTYPE=text/html:<span style="color:rgb(0\, 0\, 0)\; font-family:arial\; font-size:11pt">The Narrative Journalism Program at Denison</span><span style="background-color:transparent\; color:rgb(0\, 0\, 0)\; font-family:arial\; font-size:11pt"> presents a 4-part series of &ldquo\;Tell Better Stories: Writing Memoir&rdquo\; workshops led by Heather Shaw\, a freelance writer from Newark\, Ohio and winner of the Award of Excellence from the Columbus Arts Festival.</span>\n<p><span style="font-size:11pt">Part 2: &quot\;Researching Your Memoir&quot\;: You&#39\;d be amazed by how much you don&#39\;t know about your own life. This session explores research: getting the facts straight\, using sensory details to tell a story\, and placing your memoir in a broader context.</span></p>\n\n<div>&nbsp\;</div>\n
LOCATION:NEWORK Space 14 N. Park Place Newark\, OH 43055
UID:e.180.12865
SEQUENCE:3
DTSTAMP:20260422T115949Z
URL:http://business.granvilleoh.com/events/details/tell-better-stories-writing-memoir-researching-your-memoir-12865
END:VEVENT

END:VCALENDAR
