BEGIN:VCALENDAR
VERSION:2.0
PRODID:-//ChamberMaster//Event Calendar 2.0//EN
METHOD:PUBLISH
X-PUBLISHED-TTL:P3D
REFRESH-INTERVAL:P3D
CALSCALE:GREGORIAN
BEGIN:VEVENT
DTSTART:20191012T140000Z
DTEND:20191012T160000Z
X-MICROSOFT-CDO-ALLDAYEVENT:FALSE
SUMMARY:'Tell Better Stories: Writing Memoir: Revising Your Memoir'
DESCRIPTION:The Narrative Journalism Program at Denison presents a 4-part series of "Tell Better Stories: Writing Memoir" workshops led by Heather Shaw\, a freelance writer from Newark\, Ohio and winner of the Award of Excellence from the Columbus Arts Festival.\nPart 4: "Revising Your Memoir": You've finished the first draft. Now what? We'll talk about the revision process: editing\, fact-checking\, getting the most from the writers' group\, and deciding how to submit your work for publication.
X-ALT-DESC;FMTTYPE=text/html:<span style="color:rgb(0\, 0\, 0)\; font-family:arial\; font-size:11pt">The Narrative Journalism Program at Denison</span><span style="background-color:transparent\; color:rgb(0\, 0\, 0)\; font-family:arial\; font-size:11pt"> presents a 4-part series of &ldquo\;Tell Better Stories: Writing Memoir&rdquo\; workshops led by Heather Shaw\, a freelance writer from Newark\, Ohio and winner of the Award of Excellence from the Columbus Arts Festival.</span>\n<p><span style="background-color:transparent\; font-size:11pt">Part 4: &quot\;Revising Your Memoir&quot\;: You&#39\;ve finished the first draft. Now what? We&#39\;ll talk about the revision process: editing\, fact-checking\, getting the most from the writers&#39\; group\, and deciding how to submit your work for publication.</span></p>\n\n<p>&nbsp\;</p>\n
LOCATION:NEWORK Space 14 N. Park Place Newark\, OH 43055
UID:e.180.12867
SEQUENCE:3
DTSTAMP:20260422T144830Z
URL:http://business.granvilleoh.com/events/details/tell-better-stories-writing-memoir-revising-your-memoir-12867
END:VEVENT

END:VCALENDAR
