BEGIN:VCALENDAR
VERSION:2.0
PRODID:-//ChamberMaster//Event Calendar 2.0//EN
METHOD:PUBLISH
X-PUBLISHED-TTL:P3D
REFRESH-INTERVAL:P3D
CALSCALE:GREGORIAN
BEGIN:VEVENT
DTSTART:20190323T140000Z
DTEND:20190323T160000Z
X-MICROSOFT-CDO-ALLDAYEVENT:FALSE
SUMMARY:‘Telling Your Truth: Writing Memoir’ workshop led by Heather Shaw
DESCRIPTION:Denison University's Center for Narrative Journalism presents "Telling Your Truth: Writing Memoir" workshop led by Heather Shaw. This workshop is part of a series titled "Tell Better Stories" that is supported by the Mellon grant.\nEveryone has a story to tell. Isn't it time you told yours? In this personal essay workshop\, we'll tackle the basics of writing about ourselves in a way that is honest and engaging for a wider audience\, including writing about family\, writing truthfully from memory\, and choosing what to include (and what to leave out) to keep the story moving in the right direction. We'll spend some time breaking down successful memoirs to see what makes them tick and apply what we learn to our own projects. Participants will come away with some practical strategies for choosing a topic\, outlining the story\, and finishing that first draft.\n\nShaw is a freelance writer from Newark\, Ohio and winner of the Award of Excellence from the Columbus Arts Festival.\n\nRegistration is required.\n\nTo register\, email Beth Lossing at lossingb@denison.edu.
X-ALT-DESC;FMTTYPE=text/html:<span style="background-color:transparent\; color:rgb(0\, 0\, 0)\; font-family:arial\; font-size:11pt">Denison University&rsquo\;s Center for Narrative Journalism presents &quot\;</span>Telling Your Truth: Writing Memoir&quot\; workshop led by Heather Shaw.&nbsp\;<span style="background-color:transparent\; color:rgb(0\, 0\, 0)\; font-family:arial\; font-size:11pt">This workshop is part of a series titled &ldquo\;Tell Better Stories&rdquo\; that is supported by the Mellon grant.</span>\n<p><span style="background-color:transparent\; color:rgb(0\, 0\, 0)\; font-family:arial\; font-size:11pt">Everyone has a story to tell. Isn&rsquo\;t it time you told yours? In this personal essay workshop\, we&rsquo\;ll tackle the basics of writing about ourselves in a way that is honest and engaging for a wider audience\, including writing about family\, writing truthfully from memory\, and choosing what to include (and what to leave out) to keep the story moving in the right direction. We&rsquo\;ll spend some time breaking down successful memoirs to see what makes them tick and apply what we learn to our own projects. Participants will come away with some practical strategies for choosing a topic\, outlining the story\, and finishing that first draft.</span></p>\n\n<p><span style="background-color:transparent\; color:rgb(0\, 0\, 0)\; font-family:arial\; font-size:11pt">Shaw is a freelance writer from Newark\, Ohio and winner of the Award of Excellence from the Columbus Arts Festival.</span></p>\n\n<p><span style="background-color:transparent\; color:rgb(0\, 0\, 0)\; font-family:arial\; font-size:11pt">Registration is required.</span><br />\n<span style="background-color:transparent\; color:rgb(0\, 0\, 0)\; font-family:arial\; font-size:11pt">To register\, email Beth Lossing at lossingb@denison.edu.</span></p>\n\n<div>&nbsp\;</div>\n
LOCATION:NEWORK Space 14 N. Park Place Newark\, OH 43055
UID:e.180.12445
SEQUENCE:3
DTSTAMP:20260420T034912Z
URL:http://business.granvilleoh.com/events/details/telling-your-truth-writing-memoir-workshop-led-by-heather-shaw-12445
END:VEVENT

END:VCALENDAR
