BEGIN:VCALENDAR
VERSION:2.0
PRODID:-//ChamberMaster//Event Calendar 2.0//EN
METHOD:PUBLISH
X-PUBLISHED-TTL:P3D
REFRESH-INTERVAL:P3D
CALSCALE:GREGORIAN
BEGIN:VEVENT
DTSTART:20190327T233000Z
DTEND:20190328T003000Z
X-MICROSOFT-CDO-ALLDAYEVENT:FALSE
SUMMARY:'Texting God: Women Who Write Torah'
DESCRIPTION:Denison's Laura C. Harris Series welcomes Jen Taylor Friedman\, a Jewish scribe\, scholar and educator presenting "Texting God: Women Who Write Torah."\n\n?As a soferet - woman Torah scribe - Friedman became the first woman to complete a Torah scroll in 2007. Friedman also created the Tefillin Barbie\, which has been featured in a number of prominent Jewish publications. The scribal arts\, which include painting\, illumination\, and manuscript design as well as calligraphy\, are an integral part of the Jewish practice and culture which historically have been reserved completely for men. As a woman engaging in what some might consider subversive work\, Friedman will talk about broadening accessibility for women as an artistic pioneer in her field.
X-ALT-DESC;FMTTYPE=text/html:<p>Denison&rsquo\;s Laura C. Harris Series welcomes Jen Taylor Friedman\, a Jewish scribe\, scholar and educator presenting &ldquo\;Texting God: Women Who Write Torah.&rdquo\;</p>\n\n<p><span style="font-family:arial\; font-size:11pt">?</span><span style="font-family:arial\; font-size:11pt">As a soferet - woman Torah scribe - Friedman became the first woman to complete a Torah scroll in 2007. Friedman also created the Tefillin Barbie\, which has been featured in a number of prominent Jewish publications. The scribal arts\, which include painting\, illumination\, and manuscript design as well as calligraphy\, are an integral part of the Jewish practice and culture which historically have been reserved completely for men. As a woman engaging in what some might consider subversive work\, Friedman will talk about broadening accessibility for women as an artistic pioneer in her field.</span></p>\n
LOCATION:Denison University Burton D. Morgan Center 150 Ridge Road
UID:e.180.12289
SEQUENCE:3
DTSTAMP:20260420T034830Z
URL:http://business.granvilleoh.com/events/details/texting-god-women-who-write-torah-12289
END:VEVENT

END:VCALENDAR
