BEGIN:VCALENDAR
VERSION:2.0
PRODID:-//ChamberMaster//Event Calendar 2.0//EN
METHOD:PUBLISH
X-PUBLISHED-TTL:P3D
REFRESH-INTERVAL:P3D
CALSCALE:GREGORIAN
BEGIN:VEVENT
DTSTART:20180420T220000Z
DTEND:20180420T233000Z
X-MICROSOFT-CDO-ALLDAYEVENT:FALSE
SUMMARY:The Amazing Library Race
DESCRIPTION:Travel around the library! Teams race to complete tasks and take on a variety of challenges to win big!
X-ALT-DESC;FMTTYPE=text/html:Travel around the library! Teams race to complete tasks and take on a variety of challenges to win big!
LOCATION:Granville Public Library
UID:e.180.11862
SEQUENCE:3
DTSTAMP:20260421T083703Z
URL:http://business.granvilleoh.com/events/details/the-amazing-library-race-11862
END:VEVENT

END:VCALENDAR
