BEGIN:VCALENDAR
VERSION:2.0
PRODID:-//ChamberMaster//Event Calendar 2.0//EN
METHOD:PUBLISH
X-PUBLISHED-TTL:P3D
REFRESH-INTERVAL:P3D
CALSCALE:GREGORIAN
BEGIN:VEVENT
DTSTART:20190128T233000Z
DTEND:20190129T001500Z
X-MICROSOFT-CDO-ALLDAYEVENT:FALSE
SUMMARY:The Award Goes to...
DESCRIPTION:Celebrate the books awarded top honors in the American Library Association's Youth Media Awards\, past and present (the 2019 winners will be announced earlier in the day). Learn about the many awards you may not be aware of and discuss your own favorites with other book lovers. Families with children birth through 6th grade are welcome!
X-ALT-DESC;FMTTYPE=text/html:Celebrate the books awarded top honors in the American Library Association&#39\;s Youth Media Awards\, past and present (the 2019 winners will be announced earlier in the day). Learn about the many awards you may not be aware of and discuss your own favorites with other book lovers. Families with children birth through 6th grade are welcome!
LOCATION:Granville Public Library
UID:e.180.12300
SEQUENCE:3
DTSTAMP:20260420T010311Z
URL:http://business.granvilleoh.com/events/details/the-award-goes-to-12300
END:VEVENT

END:VCALENDAR
