BEGIN:VCALENDAR
VERSION:2.0
PRODID:-//ChamberMaster//Event Calendar 2.0//EN
METHOD:PUBLISH
X-PUBLISHED-TTL:P3D
REFRESH-INTERVAL:P3D
CALSCALE:GREGORIAN
BEGIN:VEVENT
DTSTART:20190207T010000Z
DTEND:20190207T020000Z
X-MICROSOFT-CDO-ALLDAYEVENT:FALSE
SUMMARY:The Beck Series with Victoria Chang
DESCRIPTION:Denison University's Beck Series presents its Spring 2019 schedule. The Beck Series brings award-winning authors to Denison\, for the entire community to enjoy.  The events are free and open to the public.\n\n\n\nVictoria Chang\, poet and author of "Barbie Chang" and "The Boss" which won a PEN Center USA Literary Award and a California Book Award.  Chang's new book of poems\, "OBIT\," is forthcoming in 2020. She has received a Guggenheim Fellowship\, a Sustainable Arts Foundation Fellowship\, the Poetry Society of America's Alice Fay Di Castagnola Award\, a Pushcart Prize\, and a MacDowell Fellowship. Chang teaches at Antioch University in Los Angeles.
X-ALT-DESC;FMTTYPE=text/html:<span style="background-color:transparent\; color:rgb(0\, 0\, 0)\; font-family:arial\; font-size:11pt">Denison University&#39\;s Beck Series presents its </span><span style="color:rgb(0\, 0\, 0)\; font-family:arial\; font-size:11pt">Spring 2019 </span><span style="background-color:transparent\; color:rgb(0\, 0\, 0)\; font-family:arial\; font-size:11pt">schedule. The Beck Series brings award-winning authors to Denison\, for the entire community to enjoy. &nbsp\;The events are free and open to the public.<br />\n<br />\nVictoria Chang\, poet and author of &ldquo\;Barbie Chang&rdquo\; and &ldquo\;The Boss&rdquo\; which won a PEN Center USA Literary Award and a California Book Award. &nbsp\;Chang&rsquo\;s new book of poems\, &ldquo\;OBIT\,&rdquo\; is forthcoming in 2020. She has received a Guggenheim Fellowship\, a Sustainable Arts Foundation Fellowship\, the Poetry Society of America&rsquo\;s Alice Fay Di Castagnola Award\, a Pushcart Prize\, and a MacDowell Fellowship. Chang teaches at Antioch University in Los Angeles.</span>
LOCATION:Denison University Barney-Davis Hall 200 West Loop
UID:e.180.12422
SEQUENCE:3
DTSTAMP:20260420T022912Z
URL:http://business.granvilleoh.com/events/details/the-beck-series-victoria-chang-12422
END:VEVENT

END:VCALENDAR
