BEGIN:VCALENDAR
VERSION:2.0
PRODID:-//ChamberMaster//Event Calendar 2.0//EN
METHOD:PUBLISH
X-PUBLISHED-TTL:P3D
REFRESH-INTERVAL:P3D
CALSCALE:GREGORIAN
BEGIN:VEVENT
DTSTART:20190405T000000Z
DTEND:20190405T010000Z
X-MICROSOFT-CDO-ALLDAYEVENT:FALSE
SUMMARY:The Beck Series with Dave Lucas
DESCRIPTION:Denison University's Beck Series presents its Spring 2019 schedule. The Beck Series brings award-winning authors to Denison\, for the entire community to enjoy.  The events are free and open to the public.\nPoet Laureate of Ohio\, Dave Lucas. Lucas's first book of poems "Weather\," received the 2012 Ohioana Book Award for Poetry. Named by Rita Dove as one of thirteen young poets to watch\, Lucas has also received a Discovery/The Nation Prize and a Cleveland Arts Prize. In 2018\, Lucas was appointed the second Poet Laureate of the State of Ohio. A co-founder of Cleveland Book Week and Brews + Prose at Market Garden Brewery\, he lives in Cleveland\, where he teaches at Case Western Reserve University.
X-ALT-DESC;FMTTYPE=text/html:<span style="background-color:transparent\; color:rgb(0\, 0\, 0)\; font-family:arial\; font-size:11pt">Denison University&#39\;s Beck Series presents its </span><span style="color:rgb(0\, 0\, 0)\; font-family:arial\; font-size:11pt">Spring 2019 </span><span style="background-color:transparent\; color:rgb(0\, 0\, 0)\; font-family:arial\; font-size:11pt">schedule. The Beck Series brings award-winning authors to Denison\, for the entire community to enjoy. &nbsp\;The events are free and open to the public.</span>\n<p><span style="background-color:transparent\; color:rgb(0\, 0\, 0)\; font-family:arial\; font-size:11pt">Poet Laureate of Ohio\, Dave Lucas. Lucas&rsquo\;s first book of poems &ldquo\;Weather\,&rdquo\; received the 2012 Ohioana Book Award for Poetry. Named by Rita Dove as one of thirteen young poets to watch\, Lucas has also received a Discovery/The Nation Prize and a Cleveland Arts Prize. In 2018\, Lucas was appointed the second Poet Laureate of the State of Ohio. A co-founder of Cleveland Book Week and Brews + Prose at Market Garden Brewery\, he lives in Cleveland\, where he teaches at Case Western Reserve University.</span></p>\n
LOCATION:Denison University Barney-Davis Hall 200 West Loop
UID:e.180.12425
SEQUENCE:3
DTSTAMP:20260420T050756Z
URL:http://business.granvilleoh.com/events/details/the-beck-series-with-dave-lucas-12425
END:VEVENT

END:VCALENDAR
