BEGIN:VCALENDAR
VERSION:2.0
PRODID:-//ChamberMaster//Event Calendar 2.0//EN
METHOD:PUBLISH
X-PUBLISHED-TTL:P3D
REFRESH-INTERVAL:P3D
CALSCALE:GREGORIAN
BEGIN:VEVENT
DTSTART:20190409T000000Z
DTEND:20190409T010000Z
X-MICROSOFT-CDO-ALLDAYEVENT:FALSE
SUMMARY:The Beck Series with David Baker and Ann Townsend
DESCRIPTION:Beck HOME SERIES - Denison faculty David Baker and Ann Townsend. Celebrating the release of their new books. Denison University's Beck Series presents the Home Series\, an Evening of Poetry and Music\, with special guest ETHEL and featuring David Baker\, Professor of English and Thomas B. Fordham Chair of Creative Writing\, and Ann Townsend\, Professor of English and Director of Creative Writing. This event celebrates the publication of two new collections of poetry\, Townsend's Dear Delinquent and Baker's Swift: New and Selected Poems. A book signing and reception will follow in the Faculty Common. Baker is the author of twelve books of poetry and six collections of criticism. He has received fellowships and awards from the John Simon Guggenheim Foundation\, the National Endowment for the Arts\, and the Poetry Society of America\, among other honors. He is the poetry editor of The Kenyon Review. Townsend is the author of three books of poetry and the editor\, with David Baker\, of a collection of essays\, Radiant Lyre: on Lyric Poetry. She has received fellowships and awards from the Lannan Foundation and the National Endowment for the Arts\, among other honors\, and is a co-founder of the national literary nonprofit organization\, VIDA: Women in Literary Arts. Come celebrate National Poetry Month with these two Denison poets and ETHEL!
X-ALT-DESC;FMTTYPE=text/html:<span style="font-family:arial\,sans-serif\;"><span style="font-size:10.0pt\;">Beck HOME SERIES - Denison faculty David Baker and Ann Townsend.&nbsp\;Celebrating the release of their new books. Denison University&rsquo\;s Beck Series presents the Home Series\, an Evening of Poetry and Music\, with special guest ETHEL and featuring David Baker\, Professor of English and Thomas B. Fordham Chair of Creative Writing\, and Ann Townsend\, Professor of English and Director of Creative Writing. This event celebrates the publication of two new collections of poetry\, Townsend&rsquo\;s Dear Delinquent and Baker&rsquo\;s Swift: New and Selected Poems. A book signing and reception will follow in the Faculty Common. Baker is the author of twelve books of poetry and six collections of criticism. He has received fellowships and awards from the John Simon Guggenheim Foundation\, the National Endowment for the Arts\, and the Poetry Society of America\, among other honors. He is the poetry editor of The Kenyon Review. Townsend is the author of three books of poetry and the editor\, with David Baker\, of a collection of essays\, Radiant Lyre: on Lyric Poetry. She has received fellowships and awards from the Lannan Foundation and the National Endowment for the Arts\, among other honors\, and is a co-founder of the national literary nonprofit organization\, VIDA: Women in Literary Arts. Come celebrate National Poetry Month with these two Denison poets and ETHEL!&nbsp\;</span></span>
LOCATION:Denison University Burton D. Morgan Center - 327 Knobel Hall 150 Ridge Road
UID:e.180.12426
SEQUENCE:3
DTSTAMP:20260420T050815Z
URL:http://business.granvilleoh.com/events/details/the-beck-series-with-david-baker-and-ann-townsend-12426
END:VEVENT

END:VCALENDAR
