BEGIN:VCALENDAR
VERSION:2.0
PRODID:-//ChamberMaster//Event Calendar 2.0//EN
METHOD:PUBLISH
X-PUBLISHED-TTL:P3D
REFRESH-INTERVAL:P3D
CALSCALE:GREGORIAN
BEGIN:VEVENT
DTSTART:20190816T230000Z
DTEND:20190818T180000Z
X-MICROSOFT-CDO-ALLDAYEVENT:FALSE
SUMMARY:The Drowsy Chaperone
DESCRIPTION:*This production is performed by WYART Production students* Winner of five Tony Awards\, including Best Book and Best Original Score\, THE DROWSY CHAPERONE is a loving send-up of the Jazz Age musical\, featuring one show-stopping song and dance number after another. With the house lights down\, a man in a chair appears on stage and puts on his favorite record: the cast recording of a fictitious 1928 musical. The recording comes to life and "The Drowsy Chaperone" begins as the man in the chair looks on. Mix in two lovers on the eve of their wedding\, a bumbling best man\, a desperate theatre producer\, a not-so-bright hostess\, two gangsters posing as pastry chefs\, a misguided Don Juan and an intoxicated chaperone\, and you have the ingredients for an evening of madcap delight.
X-ALT-DESC;FMTTYPE=text/html:*This production is performed by WYART Production students* Winner of five Tony Awards\, including Best Book and Best Original Score\, THE DROWSY CHAPERONE is a loving send-up of the Jazz Age musical\, featuring one show-stopping song and dance number after another. With the house lights down\, a man in a chair appears on stage and puts on his favorite record: the cast recording of a fictitious 1928 musical. The recording comes to life and &ldquo\;The Drowsy Chaperone&rdquo\; begins as the man in the chair looks on. Mix in two lovers on the eve of their wedding\, a bumbling best man\, a desperate theatre producer\, a not-so-bright hostess\, two gangsters posing as pastry chefs\, a misguided Don Juan and an intoxicated chaperone\, and you have the ingredients for an evening of madcap delight.
LOCATION:Mary Kay Booher Main Stage Weathervane Playhouse 100 Price Road Newark\, OH 43055
UID:e.180.12686
SEQUENCE:3
DTSTAMP:20260422T115356Z
URL:http://business.granvilleoh.com/events/details/the-drowsy-chaperone-12686
END:VEVENT

END:VCALENDAR
