BEGIN:VCALENDAR
VERSION:2.0
PRODID:-//ChamberMaster//Event Calendar 2.0//EN
METHOD:PUBLISH
X-PUBLISHED-TTL:P3D
REFRESH-INTERVAL:P3D
CALSCALE:GREGORIAN
BEGIN:VEVENT
DTSTART:20180728T120000Z
DTEND:20180728T190000Z
X-MICROSOFT-CDO-ALLDAYEVENT:FALSE
SUMMARY:The Fifth Annual LCHS Golf Outing
DESCRIPTION:Please join us for a great day of golf\, for a great cause! 4 person scramble - Box lunch provided by Jersey Mikes - Meal provided by City BBQ - Lots of prizes! The LCHS Golf Outing is our 2nd largest fundraiser of the year\, and 100% of the proceeds benefit our shelter operations. A successful outing is critical to meeting our annual fundraising goals. Please follow the link below for event details\, team registration\, and sponsorship opportunities!
X-ALT-DESC;FMTTYPE=text/html:Please join us for a great day of golf\, for a great cause! 4 person scramble - Box lunch provided by Jersey Mikes - Meal provided by City BBQ - Lots of prizes! The LCHS Golf Outing is our 2nd largest fundraiser of the year\, and 100% of the proceeds benefit our shelter operations. A successful outing is critical to meeting our annual fundraising goals. Please follow the link below for event details\, team registration\, and sponsorship opportunities!
LOCATION:The Links at Echo Springs 5940 Loudon Street Rd\, Johnstown\, OH 43031
UID:e.180.11943
SEQUENCE:3
DTSTAMP:20260419T170904Z
URL:http://business.granvilleoh.com/events/details/the-fifth-annual-lchs-golf-outing-11943
END:VEVENT

END:VCALENDAR
