BEGIN:VCALENDAR
VERSION:2.0
PRODID:-//ChamberMaster//Event Calendar 2.0//EN
METHOD:PUBLISH
X-PUBLISHED-TTL:P3D
REFRESH-INTERVAL:P3D
CALSCALE:GREGORIAN
BEGIN:VEVENT
DTSTART:20181019T233000Z
DTEND:20181020T020000Z
X-MICROSOFT-CDO-ALLDAYEVENT:FALSE
SUMMARY:The Full Monty
DESCRIPTION:While spying on their wives at a "Girls' Night Out\," a group of unemployed steelworkers from Buffalo sees how much they enjoy watching male strippers. Jealous\, out of work and feeling emasculated\, the men come up with a bold and unclothed way to make some quick cash. In preparing\, they find themselves extremely exposed\; not merely physically but emotionally. As they conquer their fears\, self-consciousness and prejudices\, the men come to discover that they're stronger as a group\, and the strength that they find in each other gives them the individual courage to "let it go."\nBased on the cult hit film of the same name\, The Full Monty\, a ten-time Tony Award nominee\, is filled with honest affection\, engaging melodies\, and the most highly anticipated closing number of any show.
X-ALT-DESC;FMTTYPE=text/html:While spying on their wives at a &ldquo\;Girls&rsquo\; Night Out\,&rdquo\; a group of unemployed steelworkers from Buffalo sees how much they enjoy watching male strippers. Jealous\, out of work and feeling emasculated\, the men come up with a bold and unclothed way to make some quick cash. In preparing\, they find themselves extremely exposed\; not merely physically but emotionally. As they conquer their fears\, self-consciousness and prejudices\, the men come to discover that they&rsquo\;re stronger as a group\, and the strength that they find in each other gives them the individual courage to &ldquo\;let it go.&rdquo\;\n<p style="text-align:center">Based on the cult hit film of the same name\,&nbsp\;<em>The Full Monty</em>\,&nbsp\;a ten-time Tony&nbsp\;Award nominee\, is filled with honest affection\, engaging melodies\, and the most highly anticipated closing number of any show.</p>\n
LOCATION:Weathervane Playhouse - 100 Price Road Newark\, Ohio 43055
UID:e.180.11830
SEQUENCE:3
DTSTAMP:20260419T222349Z
URL:http://business.granvilleoh.com/events/details/the-full-monty-10-19-2018-11830
END:VEVENT

END:VCALENDAR
