BEGIN:VCALENDAR
VERSION:2.0
PRODID:-//ChamberMaster//Event Calendar 2.0//EN
METHOD:PUBLISH
X-PUBLISHED-TTL:P3D
REFRESH-INTERVAL:P3D
CALSCALE:GREGORIAN
BEGIN:VEVENT
DTSTART;VALUE=DATE:20180505
DTEND;VALUE=DATE:20180506
TRANSP:TRANSPARENT
X-MICROSOFT-CDO-ALLDAYEVENT:TRUE
SUMMARY:The Great Granville Garage Sale
DESCRIPTION:Hosted by and benefiting Licking County Coalition for Housing. The Great Granville Garage Sale is an annual event that draws thousands of enthusiastic customers to the Granville area in conjunction with opening day of the Granville Farmers Market. With support from the Granville Recreation District\, Granville Area Chamber of Commerce\, and the Village of Granville\, the Licking County Coalition for Housing (LCCH) is organizing this event to raise funds for programs that help our friends and neighbors in Licking County who are homeless or facing housing challenges.
X-ALT-DESC;FMTTYPE=text/html:Hosted by and benefiting Licking County Coalition for Housing. The Great Granville Garage Sale is an annual event that draws thousands of enthusiastic customers to the Granville area in conjunction with opening day of the Granville Farmers Market. With support from the Granville Recreation District\, Granville Area Chamber of Commerce\, and the Village of Granville\, the Licking County Coalition for Housing (LCCH) is organizing this event to raise funds for programs that help our friends and neighbors in Licking County who are homeless or facing housing challenges.
LOCATION:Greater Granville Area
UID:e.180.11932
SEQUENCE:3
DTSTAMP:20260421T100921Z
URL:http://business.granvilleoh.com/events/details/the-great-granville-garage-sale-11932
END:VEVENT

END:VCALENDAR
