BEGIN:VCALENDAR
VERSION:2.0
PRODID:-//ChamberMaster//Event Calendar 2.0//EN
METHOD:PUBLISH
X-PUBLISHED-TTL:P3D
REFRESH-INTERVAL:P3D
CALSCALE:GREGORIAN
BEGIN:VEVENT
DTSTART:20181211T230000Z
DTEND:20181212T000000Z
X-MICROSOFT-CDO-ALLDAYEVENT:FALSE
SUMMARY:‘The Long Game–Addiction Crisis in Licking County’
DESCRIPTION:Denison University presents Associate Professor of English\, Jack Shuler reading "The Long Game Addiction Crisis in Licking County."\n\n\n\nShuler wrote this story\, that has been years in the making\, for Pacific Standard Magazine about the addiction crisis in one corner of the US (which happens to be our corner). The story highlights some of our local heroes.
X-ALT-DESC;FMTTYPE=text/html:<span style="background-color:transparent\; color:rgb(0\, 0\, 0)\; font-family:arial\; font-size:11pt">Denison University presents Associate Professor of English\, Jack Shuler reading &ldquo\;The Long Game&ndash\;Addiction Crisis in Licking County.&rdquo\;<br />\n<br />\nShuler wrote this story\, that has been years in the making\, for Pacific Standard Magazine about the addiction crisis in one corner of the US (which happens to be our corner). The story highlights some of our local heroes. </span>
LOCATION:Denison Art Space in Newark 23 West Church
UID:e.180.12269
SEQUENCE:3
DTSTAMP:20260419T234647Z
URL:http://business.granvilleoh.com/events/details/the-long-game-addiction-crisis-in-licking-county-12269
END:VEVENT

END:VCALENDAR
