BEGIN:VCALENDAR
VERSION:2.0
PRODID:-//ChamberMaster//Event Calendar 2.0//EN
METHOD:PUBLISH
X-PUBLISHED-TTL:P3D
REFRESH-INTERVAL:P3D
CALSCALE:GREGORIAN
BEGIN:VEVENT
DTSTART:20180929T213000Z
DTEND:20180929T233000Z
X-MICROSOFT-CDO-ALLDAYEVENT:FALSE
SUMMARY:The Masquerade Murder
DESCRIPTION:As high society gathers for the glamorous masquerade ball being held at the Biblioteca Nazionalle Marciana in Venice\, Italy\, an esteemed librarian is found dead. The shadow of suspicion is cast on the masquerade guests. Not only must you unravel the clues and crack the codes to determine the identity of the killer\, but you must also decipher the reason WHY this seemingly innocent man was killed! Masquerade wear is encouraged\; masks will be provided or bring your own! For grades 7-12.
X-ALT-DESC;FMTTYPE=text/html:As high society gathers for the glamorous masquerade ball being held at the Biblioteca Nazionalle Marciana in Venice\, Italy\, an esteemed librarian is found dead. The shadow of suspicion is cast on the masquerade guests. Not only must you unravel the clues and crack the codes to determine the identity of the killer\, but you must also decipher the reason WHY this seemingly innocent man was killed! Masquerade wear is encouraged\; masks will be provided or bring your own! For grades 7-12.
LOCATION:Granville Public Library
UID:e.180.12118
SEQUENCE:3
DTSTAMP:20260419T193250Z
URL:http://business.granvilleoh.com/events/details/the-masquerade-murder-12118
END:VEVENT

END:VCALENDAR
