BEGIN:VCALENDAR
VERSION:2.0
PRODID:-//ChamberMaster//Event Calendar 2.0//EN
METHOD:PUBLISH
X-PUBLISHED-TTL:P3D
REFRESH-INTERVAL:P3D
CALSCALE:GREGORIAN
BEGIN:VEVENT
DTSTART:20191108T000000Z
DTEND:20191108T013000Z
X-MICROSOFT-CDO-ALLDAYEVENT:FALSE
SUMMARY:The Middle East in 2020\, with OSU professor\, Dr. Richard Herrmann
DESCRIPTION:The United States remains deeply involved in the Middle East with forces in Syria and Iraq and relations with Saudi Arabia and Iran more complicated than ever. The war in Syria gives of signs of waning but drags on still\, and the war and humanitarian crisis in Yemen rages on. The future of politics inside the authoritarian states of the region remains unclear. The Arab Spring may have passed\, but have the aspirations for change? What is driving the conflicts in the region and what role should the United States play in these? These are the topics Dr. Herrmann will cover and the questions he hopes you will discuss.
X-ALT-DESC;FMTTYPE=text/html:The United States remains deeply involved in the Middle East with forces in Syria and Iraq and relations with Saudi Arabia and Iran more complicated than ever. The war in Syria gives of signs of waning but drags on still\, and the war and humanitarian crisis in Yemen rages on. The future of politics inside the authoritarian states of the region remains unclear. The Arab Spring may have passed\, but have the aspirations for change? What is driving the conflicts in the region and what role should the United States play in these? These are the topics Dr. Herrmann will cover and the questions he hopes you will discuss.
LOCATION:Granville Public Library
UID:e.180.12919
SEQUENCE:3
DTSTAMP:20260422T144538Z
URL:http://business.granvilleoh.com/events/details/the-middle-east-in-2020-with-osu-professor-dr-richard-herrmann-12919
END:VEVENT

END:VCALENDAR
