BEGIN:VCALENDAR
VERSION:2.0
PRODID:-//ChamberMaster//Event Calendar 2.0//EN
METHOD:PUBLISH
X-PUBLISHED-TTL:P3D
REFRESH-INTERVAL:P3D
CALSCALE:GREGORIAN
BEGIN:VEVENT
DTSTART:20190226T010000Z
DTEND:20190226T020000Z
X-MICROSOFT-CDO-ALLDAYEVENT:FALSE
SUMMARY:‘The Nazi’s Neighborhood’
DESCRIPTION:Denison University's Center for Narrative Journalism welcomes WBEZ audio producer Jesse Dukes presenting a Mini-Doc: "The Nazi's Neighborhood."\nDukes presents the 20 minute audio mini-documentary about the relationship between a group of neo-Nazi's in Chicago in the 1970s\, segregation\, and the neighborhood in which they were headquartered. He will talk about how podcasting can blend storytelling and scholarship to craft documentaries that help the audience confront topics in easy to digest formats.
X-ALT-DESC;FMTTYPE=text/html:<span style="background-color:transparent\; color:rgb(0\, 0\, 0)\; font-family:arial\; font-size:11pt">Denison University&rsquo\;s Center for Narrative Journalism welcomes WBEZ audio producer Jesse Dukes presenting a Mini-Doc: &ldquo\;The Nazi&rsquo\;s Neighborhood.&rdquo\;</span>\n<p><span style="background-color:transparent\; color:rgb(0\, 0\, 0)\; font-family:arial\; font-size:11pt">Dukes presents the 20 minute audio mini-documentary about the relationship between a group of neo-Nazi&rsquo\;s in Chicago in the 1970s\, segregation\, and the neighborhood in which they were headquartered. He will talk about how podcasting can blend storytelling and scholarship to craft documentaries that help the audience confront topics in easy to digest formats. </span></p>\n\n<div>&nbsp\;</div>\n
LOCATION:Denison University Boardroom of Barney-Davis Hall 200 West Loop
UID:e.180.12442
SEQUENCE:3
DTSTAMP:20260420T023231Z
URL:http://business.granvilleoh.com/events/details/the-nazi-s-neighborhood-12442
END:VEVENT

END:VCALENDAR
