BEGIN:VCALENDAR
VERSION:2.0
PRODID:-//ChamberMaster//Event Calendar 2.0//EN
METHOD:PUBLISH
X-PUBLISHED-TTL:P3D
REFRESH-INTERVAL:P3D
CALSCALE:GREGORIAN
BEGIN:VEVENT
DTSTART:20190428T180000Z
DTEND:20190428T190000Z
X-MICROSOFT-CDO-ALLDAYEVENT:FALSE
SUMMARY:The Singer’s Theatre Workshop presents “Chicago: The Musical”
DESCRIPTION:Denison University's Singer's Theatre Workshop presents "Chicago: The Musical" directed by Belinda Andrews-Smith.
X-ALT-DESC;FMTTYPE=text/html:<span style="color:rgb(0\, 0\, 0)\; font-family:arial\; font-size:11pt">Denison University&#39\;s Singer&rsquo\;s Theatre Workshop presents &ldquo\;Chicago: The Musical&rdquo\; directed by Belinda Andrews-Smith.</span>
LOCATION:Denison University Burke Hall of Music and Arts\, Recital Hall 240 West Broadway
UID:e.180.12537
SEQUENCE:3
DTSTAMP:20260420T051031Z
URL:http://business.granvilleoh.com/events/details/the-singer-s-theatre-workshop-presents-chicago-the-musical-04-28-2019-12537
END:VEVENT

END:VCALENDAR
