BEGIN:VCALENDAR
VERSION:2.0
PRODID:-//ChamberMaster//Event Calendar 2.0//EN
METHOD:PUBLISH
X-PUBLISHED-TTL:P3D
REFRESH-INTERVAL:P3D
CALSCALE:GREGORIAN
BEGIN:VEVENT
DTSTART:20191122T000000Z
DTEND:20191122T020000Z
X-MICROSOFT-CDO-ALLDAYEVENT:FALSE
SUMMARY:A Vail+ Event: Denison Symphony Orchestra with Matt Haimovitz present 'A Moveable Feast'
DESCRIPTION:Denison University's acclaimed Vail Series presents its 2019-20 season\, celebrating the series' 40th Anniversary. \n\nDenison University's Vail Series welcomes acclaimed cellist Matt Haimovitz and his brilliant musical variation on the concept of "A Moveable Feast." He will perform five of the six Bach cello suites\, with preludes by renowned contemporary composers\, at various locations throughout the Eisner Center and the community.\n\nBach's "Suites for Unaccompanied Cello" (1717-1723) are some of the most moving and spiritual compositions for a solo instrument in history. Each suite is a masterpiece on its own\, but\, in addition to the suites\, overtures by Philip Glass\, Du Yun\, Vijay Iyer\, and others are performed.\n\nHaimovitz joins the Denison Symphony Orchestra to complete the cycle\, and performs Haydn's Cello Concerto in C Major on Thursday\, Nov. 21\, in Sharon Martin Hall at the Michael D. Eisner Center for the Performing Arts.\n\n?Haimovitz will perform "A Moveable Feast" in these locations at the times given: \n\n\n	Tuesday\, Nov. 19\, at 10 a.m.   11 a.m.: Morning Break with Music 101\, Enjoy Coffee and Donuts in Room 238 of the Michael D. Eisner Center for the Performing Arts (240 West Broadway).\n	Tuesday\, Nov. 19\, at 12:30 p.m. -1:30 p.m.: Licking County Community Center Private Friendsgiving Concert at the Licking County Community Center (3825 Columbus Rd).\n	Wednesday\, Nov. 20\, at 12 p.m. - 1 p.m.: Denison Library Lunchtime Listening in the Library Atrium Bring your lunch in the Library (400 West Loop).\n	Wednesday\, Nov. 20\, at 6 p.m. - 7 p.m.: "Pop" Up Concert\, Enjoy Bach and Popcorn in the Martha "Gay" Reese Lobby in the 2nd floor hallway of the Michael D. Eisner Center for the Performing Arts (240 West Broadway). \n	Thursday\, Nov. 21\, at 12 p.m. - 1 p.m.: Bach's Lunch (get it?!) Bring your lunch and enjoy some free Whit's in Burton Morgan Knobel Hall (150 Ridge Road).\n	Thursday\, Nov. 21\, at 7 p.m. - 8:30 p.m.: Vail Series presents: "A Moveable Feast" a Vail+ Event with cellist Matt Haimovitz performing with the Denison Symphony Orchestra in the Sharon Martin Hall of the Michael D. Eisner Center for the Performing Arts (240 West Broadway). Tickets free at vailseries.org.\n\n\n??\n\n?\n\n?
X-ALT-DESC;FMTTYPE=text/html:<p><span style="font-size:14px">Denison University&rsquo\;s acclaimed Vail Series presents its 2019-20 season\, celebrating the series&#39\; 40th Anniversary.&nbsp\;</span></p>\n\n<p><span style="font-family:arial\; font-size:11pt">Denison University&rsquo\;s Vail Series </span><span style="font-family:arial\; font-size:11pt">welcomes acclaimed cellist Matt Haimovitz and his brilliant musical variation on the concept of &quot\;A Moveable Feast.&quot\; He will perform five of the six Bach cello suites\, with preludes by renowned contemporary composers\, at various locations throughout the Eisner Center and the community.</span></p>\n\n<p><span style="background-color:transparent\; font-family:arial\; font-size:11pt">Bach&rsquo\;s &ldquo\;Suites for Unaccompanied Cello&rdquo\; (1717-1723) are some of the most moving and spiritual compositions for a solo instrument in history. Each suite is a masterpiece on its own\, but\, in addition to the suites\, overtures by Philip Glass\, Du Yun\, Vijay Iyer\, and others are performed.</span></p>\n\n<p><span style="background-color:transparent\; font-family:arial\; font-size:11pt">Haimovitz joins the Denison Symphony Orchestra to complete the cycle\, and performs Haydn&rsquo\;s Cello Concerto in C Major on Thursday\, Nov. 21\, in Sharon Martin Hall at the Michael D. Eisner Center for the Performing Arts.</span></p>\n\n<p><span style="background-color:transparent\; font-family:arial\; font-size:11pt">?</span><span style="background-color:transparent\; font-family:arial\; font-size:11pt">Haimovitz will perform &rdquo\;A Moveable Feast&rdquo\; in these locations at the times given:&nbsp\;</span></p>\n\n<ul>\n	<li><span style="background-color:transparent\; font-size:11pt">Tuesday\, Nov. 19\, at 10 a.m. &ndash\; 11 a.m.: Morning Break with Music 101\, Enjoy Coffee and Donuts in Room 238 </span><span style="background-color:transparent\; font-size:11.5pt">of the Michael D. Eisner Center for the Performing Arts (240 West Broadway).</span></li>\n	<li><span style="background-color:transparent\; font-size:11pt">Tuesday\, Nov. 19\, at 12:30 p.m. -1:30 p.m.: Licking County Community Center Private Friendsgiving Concert at the Licking County Community Center (</span><span style="color:rgb(34\, 34\, 34)\; font-size:11pt">3825 Columbus Rd).</span></li>\n	<li><span style="background-color:transparent\; font-size:11pt">Wednesday\, Nov. 20\, at 12 p.m. - 1 p.m.: Denison Library Lunchtime Listening in the Library Atrium Bring your lunch in the Library (400 West Loop).</span></li>\n	<li><span style="background-color:transparent\; font-size:11pt">Wednesday\, Nov. 20\, at 6 p.m. - 7 p.m.: &ldquo\;Pop&rdquo\; Up Concert\, Enjoy Bach and Popcorn in the Martha &ldquo\;Gay&rdquo\; Reese Lobby in the 2nd floor hallway of the </span><span style="background-color:transparent\; font-size:11.5pt">Michael D. </span><span style="background-color:transparent\; font-size:11pt">Eisner Center </span><span style="background-color:transparent\; font-size:11.5pt">for the Performing Arts (240 West Broadway).</span><span style="background-color:transparent\; font-size:11pt">&nbsp\;</span></li>\n	<li><span style="background-color:transparent\; font-size:11pt">Thursday\, Nov. 21\, at 12 p.m. - 1 p.m.: Bach&rsquo\;s Lunch (get it?!) Bring your lunch and enjoy some free Whit&rsquo\;s in Burton Morgan Knobel Hall (150 Ridge Road).</span></li>\n	<li><span style="background-color:transparent\; font-size:11pt">Thursday\, Nov. 21\, at 7 p.m. - 8:30 p.m.: </span><span style="font-size:11pt">Vail Series presents: &quot\;A Moveable Feast&quot\; a Vail+ Event with cellist Matt Haimovitz performing with the Denison Symphony Orchestra</span><span style="background-color:transparent\; font-size:11pt"> in the </span><span style="background-color:transparent\; font-size:11.5pt">Sharon Martin Hall of the Michael D. Eisner Center for the Performing Arts (240 West Broadway). </span><span style="background-color:transparent\; font-size:11pt">Tickets free at vailseries.org.</span></li>\n</ul>\n\n<p><span style="font-size:14px"><span style="color:rgb(0\, 0\, 0)\; font-family:arial">?</span></span><span style="color:rgb(34\, 34\, 34)\; font-family:arial\; font-size:11pt">?</span></p>\n\n<p><span style="font-size:16px"><span style="color:rgb(0\, 0\, 0)\; font-family:arial">?</span></span></p>\n\n<p><span style="background-color:transparent\; font-family:arial\; font-size:11pt">?</span></p>\n\n<div>&nbsp\;</div>\n&nbsp\;\n\n<div>&nbsp\;</div>\n
LOCATION:Denison University Sharon Martin Hall of the Michael D. Eisner Center for the Performing Arts 240 West Broadway
UID:e.180.12835
SEQUENCE:3
DTSTAMP:20260422T144258Z
URL:http://business.granvilleoh.com/events/details/the-vail-series-presents-a-vail-event-with-cellist-matt-haimovitz-12835
END:VEVENT

END:VCALENDAR
