BEGIN:VCALENDAR
VERSION:2.0
PRODID:-//ChamberMaster//Event Calendar 2.0//EN
METHOD:PUBLISH
X-PUBLISHED-TTL:P3D
REFRESH-INTERVAL:P3D
CALSCALE:GREGORIAN
BEGIN:VEVENT
DTSTART:20191101T230000Z
DTEND:20191102T010000Z
X-MICROSOFT-CDO-ALLDAYEVENT:FALSE
SUMMARY:The Vail Series presents Baker Tarpaga Dance Project
DESCRIPTION:Denison University's acclaimed Vail Series presents its 2019-20 season\, celebrating the series' 40th Anniversary. \n\nThe Vail Series presents Baker Tarpaga Dance Project presents "When Birds Refused to Fly" choreographed by Olivier Tarpaga. "When Birds Refused to Fly" is a contemporary\, evening-length dance theatre project\, set to the music of Orchestra Super Volta. Super Volta's music reflects the celebratory\, post-independence fevers raging across sub-Saharan Africa in the 1960s and 1970s\, in stark contrast to the painful struggle African Americans faced during their fight for Civil Rights in the United States. This ensemble piece explores\, through music and movement\, a generational transformation both cultural and geographic\; examining what it is to build up and break down.
X-ALT-DESC;FMTTYPE=text/html:<p>Denison University&rsquo\;s acclaimed Vail Series presents its 2019-20 season\, celebrating the series&#39\; 40th Anniversary.&nbsp\;</p>\n\n<p>The Vail Series presents Baker Tarpaga Dance Project presents &ldquo\;When Birds Refused to Fly&rdquo\; choreographed by Olivier Tarpaga. &ldquo\;When Birds Refused to Fly&rdquo\; is a contemporary\, evening-length dance theatre project\, set to the music of Orchestra Super Volta. Super Volta&rsquo\;s music reflects the celebratory\, post-independence fevers raging across sub-Saharan Africa in the 1960s and 1970s\, in stark contrast to the painful struggle African Americans faced during their fight for Civil Rights in the United States. This ensemble piece explores\, through music and movement\, a generational transformation both cultural and geographic\; examining what it is to build up and break down.</p>\n
LOCATION:Denison University Sharon Martin Hall of the Michael D. Eisner Center for the Performing Arts 240 West Broadway
UID:e.180.12834
SEQUENCE:3
DTSTAMP:20260422T144252Z
URL:http://business.granvilleoh.com/events/details/the-vail-series-presents-baker-tarpaga-dance-project-12834
END:VEVENT

END:VCALENDAR
