BEGIN:VCALENDAR
VERSION:2.0
PRODID:-//ChamberMaster//Event Calendar 2.0//EN
METHOD:PUBLISH
X-PUBLISHED-TTL:P3D
REFRESH-INTERVAL:P3D
CALSCALE:GREGORIAN
BEGIN:VEVENT
DTSTART:20191003T230000Z
DTEND:20191004T010000Z
X-MICROSOFT-CDO-ALLDAYEVENT:FALSE
SUMMARY:The Vail Series presents Béla Fleck\, Edgar Meyer and Zakir Hussain with Rakesh Chaurasia.
DESCRIPTION:Denison University's acclaimed Vail Series presents its 2019-20 season\, celebrating the series' 40th Anniversary.\nThe Vail Series presents B la Fleck\, Edgar Meyer and Zakir Hussain with Rakesh Chaurasia. NPR stated they are "Simply the best at what they do .they're world-class masters of the banjo\, the bass fiddle and the tabla (who) conquered mere technical prowess long ago." There's a bit of the sorcerer in Fleck (banjo)\, Hussain (tabla)\, Meyer (double bass)\, and their special guest Chaurasia (bansuri-Indian flute). Most musicians hope at most for proficiency in their chosen form\, but these gentlemen move from bluegrass to Western classical to Indian classical to jazz\, transmuting genres into something uniquely their own as though they'd gotten hold of the alchemist's tools that legendarily changed lead into gold. In any case\, it's music that transcends description\, ineffable\, indefinable\, and very beautiful.
X-ALT-DESC;FMTTYPE=text/html:<span style="background-color:transparent\; color:rgb(0\, 0\, 0)\; font-family:arial\; font-size:11pt">Denison University&rsquo\;s acclaimed Vail Series presents its 2019-20 season\, </span><span style="color:rgb(0\, 0\, 0)\; font-family:arial\; font-size:11pt">celebrating the series&#39\; 40</span><span style="color:rgb(0\, 0\, 0)\; font-family:arial\; font-size:11pt"><span style="font-size:0.6em">th</span></span><span style="color:rgb(0\, 0\, 0)\; font-family:arial\; font-size:11pt"> Anniversary</span><span style="background-color:transparent\; color:rgb(0\, 0\, 0)\; font-family:arial\; font-size:11pt">.</span>\n<p><span style="background-color:transparent\; color:rgb(34\, 34\, 34)\; font-size:11pt">The Vail Series presents B&eacute\;la Fleck\, Edgar Meyer and Zakir Hussain with Rakesh Chaurasia.&nbsp\;</span><span style="font-size:11pt">NPR stated they are &ldquo\;Simply the best at what they do&hellip\;.they&rsquo\;re world-class masters of the banjo\, the bass fiddle and the tabla (who) conquered mere technical prowess long ago.&rdquo\; There&rsquo\;s a bit of the sorcerer in Fleck (banjo)\, Hussain (tabla)\, Meyer (double bass)\, and their special guest Chaurasia (bansuri-Indian flute). Most musicians hope at most for proficiency in their chosen form\, but these gentlemen move from bluegrass to Western classical to Indian classical to jazz\, transmuting genres into something uniquely their own as though they&rsquo\;d gotten hold of the alchemist&rsquo\;s tools that legendarily changed lead into gold. In any case\, it&rsquo\;s music that transcends description\, ineffable\, indefinable\, and very beautiful.</span></p>\n
LOCATION:Denison University Swasey Chapel 200 Chapel Drive
UID:e.180.12833
SEQUENCE:3
DTSTAMP:20260422T131652Z
URL:http://business.granvilleoh.com/events/details/the-vail-series-presents-b&#233;la-fleck-edgar-meyer-and-zakir-hussain-with-rakesh-chaurasia-12833
END:VEVENT

END:VCALENDAR
