BEGIN:VCALENDAR
VERSION:2.0
PRODID:-//ChamberMaster//Event Calendar 2.0//EN
METHOD:PUBLISH
X-PUBLISHED-TTL:P3D
REFRESH-INTERVAL:P3D
CALSCALE:GREGORIAN
BEGIN:VEVENT
DTSTART:20190305T170000Z
DTEND:20190305T210000Z
X-MICROSOFT-CDO-ALLDAYEVENT:FALSE
SUMMARY:‘The Weather Variations: Connecting Data\, Sculpture\, and Music’ by Nathalie Miebach
DESCRIPTION:The Denison Museum will debut "The Weather Variations Connecting Data\, Sculpture\, and Music\," an exhibition featuring sculptures\, musical scores\, and installations from Mellon artist-in-residence Nathalie Miebach on Friday\, Jan. 25\, through Saturday\, May 18. The museum is free and open to the public on Mondays through Friday from noon to 4 p.m.\nMiebach explores the intersections of art and science by translating scientific data related to meteorology\, ecology\, and oceanography into woven sculptures\, musical scores\, and installations. Miebach examines digital technologies and traditional crafts combine to give a more nuanced expression and understanding of information.\n\nAs a teaching museum\, Denison Museum engages in and supports learning and inquiry in the liberal arts. Denison Museum is committed to caring for and managing its collection and resources for the benefit of a diverse audience that extends beyond students and faculty to include visitors and learners from around the world.
X-ALT-DESC;FMTTYPE=text/html:<span style="background-color:transparent\; color:rgb(0\, 0\, 0)\; font-family:arial\; font-size:11pt">The Denison Museum will debut &ldquo\;The Weather Variations Connecting Data\, Sculpture\, and Music\,&rdquo\; an exhibition featuring sculptures\, musical scores\, and installations from Mellon artist-in-residence Nathalie Miebach on Friday\, Jan. 25\, through Saturday\, May 18.&nbsp\;</span><span style="color:rgb(0\, 0\, 0)\; font-family:verdana\,geneva\,sans-serif\; font-size:12px"><span style="font-family:arial\; font-size:11pt">The </span></span><span style="color:rgb(0\, 0\, 0)\; font-family:verdana\,geneva\,sans-serif\; font-size:12px"><span style="font-family:arial\; font-size:11pt">museum is free and open to the public on Mondays through Friday from noon to 4 p.m.</span></span>\n<p><span style="color:rgb(0\, 0\, 0)\; font-family:arial\; font-size:11pt">Miebach explores the intersections of art and science by translating scientific data related to meteorology\, ecology\, and oceanography into woven sculptures\, musical scores\, and installations. Miebach examines digital technologies and traditional crafts combine to give a more nuanced expression and understanding of information.</span></p>\n\n<p><span style="color:rgb(0\, 0\, 0)\; font-family:arial\; font-size:11pt">As a teaching museum\, Denison Museum engages in and supports learning and inquiry in the liberal arts. Denison Museum is committed to caring for and managing its collection and resources for the benefit of a diverse audience that extends beyond students and faculty to include visitors and learners from around the world. &nbsp\;</span></p>\n\n<div>&nbsp\;</div>\n<span style="background-color:transparent\; color:rgb(0\, 0\, 0)\; font-family:arial\; font-size:11pt"> </span>
LOCATION:Denison University Denison Museum 240 West Broadway
UID:e.180.12344
SEQUENCE:3
DTSTAMP:20260420T064603Z
URL:http://business.granvilleoh.com/events/details/the-weather-variations-connecting-data-sculpture-and-music-by-nathalie-miebach-03-05-2019-12344
END:VEVENT

END:VCALENDAR
