BEGIN:VCALENDAR
VERSION:2.0
PRODID:-//ChamberMaster//Event Calendar 2.0//EN
METHOD:PUBLISH
X-PUBLISHED-TTL:P3D
REFRESH-INTERVAL:P3D
CALSCALE:GREGORIAN
BEGIN:VEVENT
DTSTART:20190920T223000Z
DTEND:20190921T003000Z
X-MICROSOFT-CDO-ALLDAYEVENT:FALSE
SUMMARY:Tile-Gating: Scrabble Tournament
DESCRIPTION:Adults and teens\, join us to test your scrabble skills on the gridiron. Prizes for the high score! For adults and teens in 7th grade and up.
X-ALT-DESC;FMTTYPE=text/html:Adults and teens\, join us to test your scrabble skills on the gridiron. Prizes for the high score! For adults and teens in 7th grade and up.
LOCATION:Granville Public Library
UID:e.180.12796
SEQUENCE:3
DTSTAMP:20260422T115417Z
URL:http://business.granvilleoh.com/events/details/tile-gating-scrabble-tournament-12796
END:VEVENT

END:VCALENDAR
