BEGIN:VCALENDAR
VERSION:2.0
PRODID:-//ChamberMaster//Event Calendar 2.0//EN
METHOD:PUBLISH
X-PUBLISHED-TTL:P3D
REFRESH-INTERVAL:P3D
CALSCALE:GREGORIAN
BEGIN:VEVENT
DTSTART:20190806T210000Z
DTEND:20190806T230000Z
X-MICROSOFT-CDO-ALLDAYEVENT:FALSE
SUMMARY:Tinkercad for Adults
DESCRIPTION:Create a unique 3D-printed bag tag using Tinkercad during this class specifically for adults. Some basic computer knowledge is needed. Register on-line at www.granvillelibrary.org/calendar or by calling 740-587-0196 ext. 110.
X-ALT-DESC;FMTTYPE=text/html:Create a unique 3D-printed bag tag using Tinkercad during this class specifically for adults. Some basic computer knowledge is needed. Register on-line at www.granvillelibrary.org/calendar or by calling 740-587-0196 ext. 110.
LOCATION:Granville Public Library
UID:e.180.12764
SEQUENCE:3
DTSTAMP:20260422T102605Z
URL:http://business.granvilleoh.com/events/details/tinkercad-for-adults-12764
END:VEVENT

END:VCALENDAR
