BEGIN:VCALENDAR
VERSION:2.0
PRODID:-//ChamberMaster//Event Calendar 2.0//EN
METHOD:PUBLISH
X-PUBLISHED-TTL:P3D
REFRESH-INTERVAL:P3D
CALSCALE:GREGORIAN
BEGIN:VEVENT
DTSTART:20190809T170000Z
DTEND:20190809T190000Z
X-MICROSOFT-CDO-ALLDAYEVENT:FALSE
SUMMARY:Tinkercad for Teens
DESCRIPTION:Create a unique 3D-printed bag tag using Tinkercad during this class specifically for 7-12th graders. Some basic computer knowledge is needed. Register on-line at www.granvillelibrary.org/calendar or by calling 740-587-0196 ext. 110.
X-ALT-DESC;FMTTYPE=text/html:Create a unique 3D-printed bag tag using Tinkercad during this class specifically for 7-12th graders. Some basic computer knowledge is needed. Register on-line at www.granvillelibrary.org/calendar or by calling 740-587-0196 ext. 110.
LOCATION:Granville Public Library
UID:e.180.12766
SEQUENCE:3
DTSTAMP:20260422T102507Z
URL:http://business.granvilleoh.com/events/details/tinkercad-for-teens-12766
END:VEVENT

END:VCALENDAR
