BEGIN:VCALENDAR
VERSION:2.0
PRODID:-//ChamberMaster//Event Calendar 2.0//EN
METHOD:PUBLISH
X-PUBLISHED-TTL:P3D
REFRESH-INTERVAL:P3D
CALSCALE:GREGORIAN
BEGIN:VEVENT
DTSTART:20190724T170000Z
DTEND:20190724T190000Z
X-MICROSOFT-CDO-ALLDAYEVENT:FALSE
SUMMARY:Tinkercad for Tweens
DESCRIPTION:Tweens\, learn how to use Tinkercard to customize your 3D printing project. In July\, create a do not disturb sign for your shelf or desk. Registration required at www.granvillelibrary.org/calendar. For rising 4-6th graders.
X-ALT-DESC;FMTTYPE=text/html:Tweens\, learn how to use Tinkercard to customize your 3D printing project. In July\, create a do not disturb sign for your shelf or desk. Registration required at www.granvillelibrary.org/calendar. For rising 4-6th graders.
LOCATION:Granville Public Library
UID:e.180.12739
SEQUENCE:3
DTSTAMP:20260422T085200Z
URL:http://business.granvilleoh.com/events/details/tinkercad-for-tweens-07-24-2019-12739
END:VEVENT

END:VCALENDAR
