BEGIN:VCALENDAR
VERSION:2.0
PRODID:-//ChamberMaster//Event Calendar 2.0//EN
METHOD:PUBLISH
X-PUBLISHED-TTL:P3D
REFRESH-INTERVAL:P3D
CALSCALE:GREGORIAN
BEGIN:VEVENT
DTSTART:20190807T170000Z
DTEND:20190807T190000Z
X-MICROSOFT-CDO-ALLDAYEVENT:FALSE
SUMMARY:Tinkercad for Tweens
DESCRIPTION:Create a unique 3D-printed bag tag using Tinkercad during this class specifically for 4-6 graders. Some basic computer knowledge is needed. Register on-line at www.granvillelibrary.org/calendar or by calling 740-587-0196 ext. 110.
X-ALT-DESC;FMTTYPE=text/html:Create a unique 3D-printed bag tag using Tinkercad during this class specifically for 4-6 graders. Some basic computer knowledge is needed. Register on-line at www.granvillelibrary.org/calendar or by calling 740-587-0196 ext. 110.
LOCATION:Granville Public Library
UID:e.180.12765
SEQUENCE:3
DTSTAMP:20260422T102702Z
URL:http://business.granvilleoh.com/events/details/tinkercad-for-tweens-08-07-2019-12765
END:VEVENT

END:VCALENDAR
