BEGIN:VCALENDAR
VERSION:2.0
PRODID:-//ChamberMaster//Event Calendar 2.0//EN
METHOD:PUBLISH
X-PUBLISHED-TTL:P3D
REFRESH-INTERVAL:P3D
CALSCALE:GREGORIAN
BEGIN:VEVENT
DTSTART:20190605T170000Z
DTEND:20190605T190000Z
X-MICROSOFT-CDO-ALLDAYEVENT:FALSE
SUMMARY:Tinkercad for Tweens
DESCRIPTION:Tweens\, learn how to use Tinkercard to customize your 3D printing project. In June\, make a tag for your backpack\, best friend tags for you and your BFF\, or a pet tag for your favorite 4-footers. Registration required. For rising 4-6th graders. https://www.granvillelibrary.org/content/tinkercad-tweens-personalized-id-tags-0
X-ALT-DESC;FMTTYPE=text/html:Tweens\, learn how to use Tinkercard to customize your 3D printing project. In June\, make a tag for your backpack\, best friend tags for you and your BFF\, or a pet tag for your favorite 4-footers. Registration required. For rising 4-6th graders. https://www.granvillelibrary.org/content/tinkercad-tweens-personalized-id-tags-0
LOCATION:Granville Public Library
UID:e.180.12646
SEQUENCE:3
DTSTAMP:20260422T085108Z
URL:http://business.granvilleoh.com/events/details/tinkercad-for-tweens-12646
END:VEVENT

END:VCALENDAR
